BEGIN:VCALENDAR
VERSION:2.0
PRODID:-//Melbourne Camera Club - ECPv6.15.20//NONSGML v1.0//EN
CALSCALE:GREGORIAN
METHOD:PUBLISH
X-WR-CALNAME:Melbourne Camera Club
X-ORIGINAL-URL:https://melbournecameraclub.org.au
X-WR-CALDESC:Events for Melbourne Camera Club
REFRESH-INTERVAL;VALUE=DURATION:PT1H
X-Robots-Tag:noindex
X-PUBLISHED-TTL:PT1H
BEGIN:VTIMEZONE
TZID:Australia/Melbourne
BEGIN:STANDARD
TZOFFSETFROM:+1100
TZOFFSETTO:+1000
TZNAME:AEST
DTSTART:20220402T160000
END:STANDARD
BEGIN:DAYLIGHT
TZOFFSETFROM:+1000
TZOFFSETTO:+1100
TZNAME:AEDT
DTSTART:20221001T160000
END:DAYLIGHT
BEGIN:STANDARD
TZOFFSETFROM:+1100
TZOFFSETTO:+1000
TZNAME:AEST
DTSTART:20230401T160000
END:STANDARD
BEGIN:DAYLIGHT
TZOFFSETFROM:+1000
TZOFFSETTO:+1100
TZNAME:AEDT
DTSTART:20230930T160000
END:DAYLIGHT
BEGIN:STANDARD
TZOFFSETFROM:+1100
TZOFFSETTO:+1000
TZNAME:AEST
DTSTART:20240406T160000
END:STANDARD
BEGIN:DAYLIGHT
TZOFFSETFROM:+1000
TZOFFSETTO:+1100
TZNAME:AEDT
DTSTART:20241005T160000
END:DAYLIGHT
END:VTIMEZONE
BEGIN:VEVENT
DTSTART;TZID=Australia/Melbourne:20230614T193000
DTEND;TZID=Australia/Melbourne:20230614T213000
DTSTAMP:20260421T193517
CREATED:20230116T023354Z
LAST-MODIFIED:20230601T125010Z
UID:10001874-1686771000-1686778200@melbournecameraclub.org.au
SUMMARY:Grace Lock Group - Alternative processes presentation
DESCRIPTION:Santina Velo has booked the downstairs studio and darkroom and will take us through her experimentation with alternative processes. Her cyanotype and cyanolumens in the IWD exhibition were very beautiful and had us all intrigued. Santina will conduct a hands on workshop including her learnings and workflow. This is sure to get our creative juices going. \nSee some samples of Santina’s cyanotypes here \nThe Grace Lock Group focuses on women photographers\, supporting conversations on personal projects (eg. the creation of portfolios or new bodies of work)\, as well as the work of other women photographers. It explores our visual expression in a like-minded group in a non-competitive way. Participants are encouraged to bring along their idea or images for discussion.
URL:https://melbournecameraclub.org.au/event/grace-lock-group-meeting-4/
LOCATION:VIC
ORGANIZER;CN="Anne Shellard & Kaye Linsdell":MAILTO:gracelockgroup@melbournecameraclub.org.au
END:VEVENT
END:VCALENDAR