BEGIN:VCALENDAR
VERSION:2.0
PRODID:-//Melbourne Camera Club - ECPv6.15.20//NONSGML v1.0//EN
CALSCALE:GREGORIAN
METHOD:PUBLISH
X-ORIGINAL-URL:https://melbournecameraclub.org.au
X-WR-CALDESC:Events for Melbourne Camera Club
REFRESH-INTERVAL;VALUE=DURATION:PT1H
X-Robots-Tag:noindex
X-PUBLISHED-TTL:PT1H
BEGIN:VTIMEZONE
TZID:Australia/Melbourne
BEGIN:STANDARD
TZOFFSETFROM:+1100
TZOFFSETTO:+1000
TZNAME:AEST
DTSTART:20200404T160000
END:STANDARD
BEGIN:DAYLIGHT
TZOFFSETFROM:+1000
TZOFFSETTO:+1100
TZNAME:AEDT
DTSTART:20201003T160000
END:DAYLIGHT
BEGIN:STANDARD
TZOFFSETFROM:+1100
TZOFFSETTO:+1000
TZNAME:AEST
DTSTART:20210403T160000
END:STANDARD
BEGIN:DAYLIGHT
TZOFFSETFROM:+1000
TZOFFSETTO:+1100
TZNAME:AEDT
DTSTART:20211002T160000
END:DAYLIGHT
BEGIN:STANDARD
TZOFFSETFROM:+1100
TZOFFSETTO:+1000
TZNAME:AEST
DTSTART:20220402T160000
END:STANDARD
BEGIN:DAYLIGHT
TZOFFSETFROM:+1000
TZOFFSETTO:+1100
TZNAME:AEDT
DTSTART:20221001T160000
END:DAYLIGHT
END:VTIMEZONE
BEGIN:VEVENT
DTSTART;TZID=Australia/Melbourne:20211026T200000
DTEND;TZID=Australia/Melbourne:20211026T220000
DTSTAMP:20260424T215154
CREATED:20210916T034924Z
LAST-MODIFIED:20211012T061121Z
UID:10001534-1635278400-1635285600@melbournecameraclub.org.au
SUMMARY:Nature Presentation by Ita Martin
DESCRIPTION:Join us by zoom at 8pm on 26 October for a special presentation from Ireland\, by Ita Martin\, a member of Malahide Camera Club. Ita will talk about ‘My Natural History Photography’ and cover bird\, animal and landscape images from home as well as the UK\, Canada\, Poland\, Slovakia\, France\, Norway\, Italy\, India and the US. \nIta has been a member of the Malahide Camera Club since 2009 and has gone on to achieve many awards including being named Nature Photographer of the Year by the Irish Photographic Federation. She has also won many international salon awards and has achieved EFIAP/s. Her photos have appeared on the cover and in articles in several nature and photography magazines. \n 
URL:https://melbournecameraclub.org.au/event/nature-presentation-by-ita-martin/
LOCATION:VIC
END:VEVENT
END:VCALENDAR