BEGIN:VCALENDAR
VERSION:2.0
PRODID:-//Melbourne Camera Club - ECPv6.15.20//NONSGML v1.0//EN
CALSCALE:GREGORIAN
METHOD:PUBLISH
X-WR-CALNAME:Melbourne Camera Club
X-ORIGINAL-URL:https://melbournecameraclub.org.au
X-WR-CALDESC:Events for Melbourne Camera Club
REFRESH-INTERVAL;VALUE=DURATION:PT1H
X-Robots-Tag:noindex
X-PUBLISHED-TTL:PT1H
BEGIN:VTIMEZONE
TZID:Australia/Melbourne
BEGIN:STANDARD
TZOFFSETFROM:+1100
TZOFFSETTO:+1000
TZNAME:AEST
DTSTART:20200404T160000
END:STANDARD
BEGIN:DAYLIGHT
TZOFFSETFROM:+1000
TZOFFSETTO:+1100
TZNAME:AEDT
DTSTART:20201003T160000
END:DAYLIGHT
BEGIN:STANDARD
TZOFFSETFROM:+1100
TZOFFSETTO:+1000
TZNAME:AEST
DTSTART:20210403T160000
END:STANDARD
BEGIN:DAYLIGHT
TZOFFSETFROM:+1000
TZOFFSETTO:+1100
TZNAME:AEDT
DTSTART:20211002T160000
END:DAYLIGHT
BEGIN:STANDARD
TZOFFSETFROM:+1100
TZOFFSETTO:+1000
TZNAME:AEST
DTSTART:20220402T160000
END:STANDARD
BEGIN:DAYLIGHT
TZOFFSETFROM:+1000
TZOFFSETTO:+1100
TZNAME:AEDT
DTSTART:20221001T160000
END:DAYLIGHT
END:VTIMEZONE
BEGIN:VEVENT
DTSTART;TZID=Australia/Melbourne:20211019T103000
DTEND;TZID=Australia/Melbourne:20211019T120000
DTSTAMP:20260424T003030
CREATED:20210808T055235Z
LAST-MODIFIED:20211012T103821Z
UID:10001525-1634639400-1634644800@melbournecameraclub.org.au
SUMMARY:Mid Week Outing
DESCRIPTION:Mid-Week Outing – Tuesday 19th October. \nOur regular get together will again be by zoom – however I think we all agree that these zoom meeting are good fun\, and we are learning so much about our fellow participants thanks to their  varied presentations\, plus some great photography. \nThe meeting will start at 10.30 a.m.\, so make sure that you have your coffee or green tea ready\, plus something special to eat. \nThis meeting\, the presentations are so different – \nBert Hoveling will take us to Norfolk Island for the 2019 Jazz Festival. \nAnnette James will take us cruising Marquesas Islands (that’s in the vicinity of Tahiti for anyone who had to ask\, as I did). \nAnd Norman Blaikie will present on Islamic Architecture in Central Asia. \n(Below are some images from the upcoming presentations) \nAnd we will start with Jim O’Donnell who will continue his informative presentation on how he changes backgrounds for his images using Photoshop. \nA very full program with great variety; and we will ensure that there is plenty of time to chat\, bringing everyone up to date on what’s been happening in our lives. \nLooking forward to seeing you all on Tuesday 19th. \n  \nClick Scheduled and future Mid-Week Outing details
URL:https://melbournecameraclub.org.au/event/mid-week-outing-2021-10-19/
LOCATION:VIC
END:VEVENT
END:VCALENDAR