BEGIN:VCALENDAR
VERSION:2.0
PRODID:-//Melbourne Camera Club - ECPv6.15.20//NONSGML v1.0//EN
CALSCALE:GREGORIAN
METHOD:PUBLISH
X-WR-CALNAME:Melbourne Camera Club
X-ORIGINAL-URL:https://melbournecameraclub.org.au
X-WR-CALDESC:Events for Melbourne Camera Club
REFRESH-INTERVAL;VALUE=DURATION:PT1H
X-Robots-Tag:noindex
X-PUBLISHED-TTL:PT1H
BEGIN:VTIMEZONE
TZID:Australia/Melbourne
BEGIN:STANDARD
TZOFFSETFROM:+1100
TZOFFSETTO:+1000
TZNAME:AEST
DTSTART:20190406T160000
END:STANDARD
BEGIN:DAYLIGHT
TZOFFSETFROM:+1000
TZOFFSETTO:+1100
TZNAME:AEDT
DTSTART:20191005T160000
END:DAYLIGHT
BEGIN:STANDARD
TZOFFSETFROM:+1100
TZOFFSETTO:+1000
TZNAME:AEST
DTSTART:20200404T160000
END:STANDARD
BEGIN:DAYLIGHT
TZOFFSETFROM:+1000
TZOFFSETTO:+1100
TZNAME:AEDT
DTSTART:20201003T160000
END:DAYLIGHT
BEGIN:STANDARD
TZOFFSETFROM:+1100
TZOFFSETTO:+1000
TZNAME:AEST
DTSTART:20210403T160000
END:STANDARD
BEGIN:DAYLIGHT
TZOFFSETFROM:+1000
TZOFFSETTO:+1100
TZNAME:AEDT
DTSTART:20211002T160000
END:DAYLIGHT
END:VTIMEZONE
BEGIN:VEVENT
DTSTART;TZID=Australia/Melbourne:20201112T200000
DTEND;TZID=Australia/Melbourne:20201112T213000
DTSTAMP:20260423T053934
CREATED:20200131T113937Z
LAST-MODIFIED:20200131T114006Z
UID:10001226-1605211200-1605216600@melbournecameraclub.org.au
SUMMARY:Club Night
DESCRIPTION:
URL:https://melbournecameraclub.org.au/event/2020-11-12/
LOCATION:VIC
END:VEVENT
BEGIN:VEVENT
DTSTART;TZID=Australia/Melbourne:20201112T200000
DTEND;TZID=Australia/Melbourne:20201112T213000
DTSTAMP:20260423T053934
CREATED:20201101T005622Z
LAST-MODIFIED:20201101T005622Z
UID:10001331-1605211200-1605216600@melbournecameraclub.org.au
SUMMARY:A Covid Compromise: The APG 20th Annual Exhibition
DESCRIPTION:The opening of the APG 20th Annual Exhibition by Zo Damag
URL:https://melbournecameraclub.org.au/event/a-covid-compromise-the-apg-20th-annual-exhibition/
LOCATION:VIC
END:VEVENT
BEGIN:VEVENT
DTSTART;TZID=Australia/Melbourne:20201112T200000
DTEND;TZID=Australia/Melbourne:20201112T230000
DTSTAMP:20260423T053934
CREATED:20190629T060837Z
LAST-MODIFIED:20190706T124723Z
UID:10000905-1605211200-1605222000@melbournecameraclub.org.au
SUMMARY:Print Competition
DESCRIPTION:The monthly competition for printed images
URL:https://melbournecameraclub.org.au/event/print-competition/2020-11-12/
LOCATION:VIC
END:VEVENT
END:VCALENDAR