BEGIN:VCALENDAR
VERSION:2.0
PRODID:-//Melbourne Camera Club - ECPv5.0.2.1//NONSGML v1.0//EN
CALSCALE:GREGORIAN
METHOD:PUBLISH
X-WR-CALNAME:Melbourne Camera Club
X-ORIGINAL-URL:https://melbournecameraclub.org.au
X-WR-CALDESC:Events for Melbourne Camera Club
BEGIN:VTIMEZONE
TZID:Australia/Melbourne
BEGIN:STANDARD
TZOFFSETFROM:+1100
TZOFFSETTO:+1000
TZNAME:AEST
DTSTART:20200404T160000
END:STANDARD
BEGIN:DAYLIGHT
TZOFFSETFROM:+1000
TZOFFSETTO:+1100
TZNAME:AEDT
DTSTART:20201003T160000
END:DAYLIGHT
END:VTIMEZONE
BEGIN:VEVENT
DTSTART;TZID=Australia/Melbourne:20200204T103000
DTEND;TZID=Australia/Melbourne:20200204T140000
DTSTAMP:20200302T055107
CREATED:20200102T095729Z
LAST-MODIFIED:20200110T100149Z
UID:7733-1580812200-1580824800@melbournecameraclub.org.au
SUMMARY:MCC/CCC Mid-week Outing
DESCRIPTION:The first MCC mid week outing for 2020 will be to the Monash Gallery of Art in Wheeler hill to see the exhibition “Fashioning Black Identity Africa and the African diaspora. \nWe shall meet in the coffee shop at the gallery at 10:30. \nLunch after viewing the exhibition will be at the Wheelers Hill Hotel\, which is opposite the gallery. \nThe gallery is located at 860 Ferntree Gully Road Wheelers Hill. \nMonash Gallery of Art \nClick here for further details about the Mid-week Outing Group \n
URL:https://melbournecameraclub.org.au/event/mcc-ccc-mid-week-outing/
END:VEVENT
BEGIN:VEVENT
DTSTART;TZID=Australia/Melbourne:20200204T193000
DTEND;TZID=Australia/Melbourne:20200204T210000
DTSTAMP:20200302T055107
CREATED:20191029T215931Z
LAST-MODIFIED:20191115T205750Z
UID:6282-1580844600-1580850000@melbournecameraclub.org.au
SUMMARY:Introduction to Photography - Week 1
DESCRIPTION:Syllabus Intro Course \n \n
URL:https://melbournecameraclub.org.au/event/introduction-to-photography/
LOCATION:254-256 Ferrars St\, South Melbourne\, Vic 3205
ORGANIZER;CN="Mark%20Devaraj":MAILTO:mark.devaraj@melbournecameraclub.org.au
END:VEVENT
END:VCALENDAR