BEGIN:VCALENDAR
VERSION:2.0
PRODID:-//Melbourne Camera Club - ECPv5.0.2.1//NONSGML v1.0//EN
CALSCALE:GREGORIAN
METHOD:PUBLISH
X-WR-CALNAME:Melbourne Camera Club
X-ORIGINAL-URL:https://melbournecameraclub.org.au
X-WR-CALDESC:Events for Melbourne Camera Club
BEGIN:VTIMEZONE
TZID:Australia/Melbourne
BEGIN:STANDARD
TZOFFSETFROM:+1100
TZOFFSETTO:+1000
TZNAME:AEST
DTSTART:20200404T160000
END:STANDARD
BEGIN:DAYLIGHT
TZOFFSETFROM:+1000
TZOFFSETTO:+1100
TZNAME:AEDT
DTSTART:20201003T160000
END:DAYLIGHT
END:VTIMEZONE
BEGIN:VEVENT
DTSTART;TZID=Australia/Melbourne:20200203T190000
DTEND;TZID=Australia/Melbourne:20200203T230000
DTSTAMP:20200302T055026
CREATED:20200115T075759Z
LAST-MODIFIED:20200115T075759Z
UID:8069-1580756400-1580770800@melbournecameraclub.org.au
SUMMARY:Portrait Group
DESCRIPTION:This is the monthly meeting of the Portrait Group – first Monday of each month. An excellent chance to practice portrait photography skills and grow your portfolio. \nThe meeting is a practical photography session. We use flash lighting in a studio setting. We will have 2 sets operating and 2-3 models\, so there will be ample opportunity to shoot. \nOpen to all MCC members (and visitors may attend up to 2 sessions). If you want to shoot\, please bring your camera (with a standard hot shoe on top for the flash trigger) and $10 for a shooters licence. \nPlease come along at 7pm to help set up. We start shooting at 8pm\, and stop when the models say they’ve had enough (typically 2-3 hours). \nPlease remember that after the shoot you are required to send some photos back for the models. \n
URL:https://melbournecameraclub.org.au/event/portrait-group/2020-02-03/
LOCATION:254-256 Ferrars St\, South Melbourne\, Vic 3205
ORGANIZER;CN="David%20Purdue":MAILTO:portrait@melbournecameraclub.org.au
END:VEVENT
END:VCALENDAR