BEGIN:VCALENDAR
VERSION:2.0
PRODID:-//Melbourne Camera Club - ECPv5.0.2.1//NONSGML v1.0//EN
CALSCALE:GREGORIAN
METHOD:PUBLISH
X-WR-CALNAME:Melbourne Camera Club
X-ORIGINAL-URL:https://melbournecameraclub.org.au
X-WR-CALDESC:Events for Melbourne Camera Club
BEGIN:VTIMEZONE
TZID:Australia/Melbourne
BEGIN:STANDARD
TZOFFSETFROM:+1100
TZOFFSETTO:+1000
TZNAME:AEST
DTSTART:20200404T160000
END:STANDARD
BEGIN:DAYLIGHT
TZOFFSETFROM:+1000
TZOFFSETTO:+1100
TZNAME:AEDT
DTSTART:20201003T160000
END:DAYLIGHT
END:VTIMEZONE
BEGIN:VEVENT
DTSTART;TZID=Australia/Melbourne:20200130T200000
DTEND;TZID=Australia/Melbourne:20200130T213000
DTSTAMP:20200302T054825
CREATED:20200107T091948Z
LAST-MODIFIED:20200215T024401Z
UID:7940-1580414400-1580419800@melbournecameraclub.org.au
SUMMARY:Members Promotion Evening
DESCRIPTION:Please join us to hear some inspiring presentations from our awarded members being promoted from Novice and B grade. \nJan 23\nMelissa Jane Cachia – Sweet Magnolia Photography\nPeter King\nDaryl Groves – Instagram & Facebook\nRuth Woodrow – lensculture\nPaul Dodd – paul.angrybluecat \nJan 30\nSally Paterson – Instagram\nKyffin Lewis\nGraeme Diggle – Diggle Photography\nDoug Jackson\nMark Devaraj – Instagram \n  \nNext Club Night: MCC Member – Jerzy Alexander Lau – Kamchatka Bears \n  \n
URL:https://melbournecameraclub.org.au/event/members-promotion-evening/2020-01-30/
LOCATION:254-256 Ferrars St\, South Melbourne\, Vic 3205
END:VEVENT
END:VCALENDAR