BEGIN:VCALENDAR
VERSION:2.0
PRODID:-//Melbourne Camera Club - ECPv6.15.20//NONSGML v1.0//EN
CALSCALE:GREGORIAN
METHOD:PUBLISH
X-WR-CALNAME:Melbourne Camera Club
X-ORIGINAL-URL:https://melbournecameraclub.org.au
X-WR-CALDESC:Events for Melbourne Camera Club
REFRESH-INTERVAL;VALUE=DURATION:PT1H
X-Robots-Tag:noindex
X-PUBLISHED-TTL:PT1H
BEGIN:VTIMEZONE
TZID:Australia/Melbourne
BEGIN:STANDARD
TZOFFSETFROM:+1100
TZOFFSETTO:+1000
TZNAME:AEST
DTSTART:20190406T160000
END:STANDARD
BEGIN:DAYLIGHT
TZOFFSETFROM:+1000
TZOFFSETTO:+1100
TZNAME:AEDT
DTSTART:20191005T160000
END:DAYLIGHT
BEGIN:STANDARD
TZOFFSETFROM:+1100
TZOFFSETTO:+1000
TZNAME:AEST
DTSTART:20200404T160000
END:STANDARD
BEGIN:DAYLIGHT
TZOFFSETFROM:+1000
TZOFFSETTO:+1100
TZNAME:AEDT
DTSTART:20201003T160000
END:DAYLIGHT
BEGIN:STANDARD
TZOFFSETFROM:+1100
TZOFFSETTO:+1000
TZNAME:AEST
DTSTART:20210403T160000
END:STANDARD
BEGIN:DAYLIGHT
TZOFFSETFROM:+1000
TZOFFSETTO:+1100
TZNAME:AEDT
DTSTART:20211002T160000
END:DAYLIGHT
END:VTIMEZONE
BEGIN:VEVENT
DTSTART;TZID=Australia/Melbourne:20200303T193000
DTEND;TZID=Australia/Melbourne:20200303T210000
DTSTAMP:20260425T012215
CREATED:20191129T081357Z
LAST-MODIFIED:20191129T082018Z
UID:6588-1583263800-1583269200@melbournecameraclub.org.au
SUMMARY:Introduction to Photography - Week 5- Travel photography (lesson) and Image Quality – Should you shoot Raw or jpg.(lesson)
DESCRIPTION:Syllabus Intro Course
URL:https://melbournecameraclub.org.au/event/introduction-to-photography-travel-photography-lesson-and-image-quality-should-you-shoot-raw-or-jpg-lesson/
END:VEVENT
END:VCALENDAR