BEGIN:VCALENDAR
VERSION:2.0
PRODID:-//Melbourne Camera Club - ECPv6.15.20//NONSGML v1.0//EN
CALSCALE:GREGORIAN
METHOD:PUBLISH
X-WR-CALNAME:Melbourne Camera Club
X-ORIGINAL-URL:https://melbournecameraclub.org.au
X-WR-CALDESC:Events for Melbourne Camera Club
REFRESH-INTERVAL;VALUE=DURATION:PT1H
X-Robots-Tag:noindex
X-PUBLISHED-TTL:PT1H
BEGIN:VTIMEZONE
TZID:Australia/Melbourne
BEGIN:STANDARD
TZOFFSETFROM:+1100
TZOFFSETTO:+1000
TZNAME:AEST
DTSTART:20190406T160000
END:STANDARD
BEGIN:DAYLIGHT
TZOFFSETFROM:+1000
TZOFFSETTO:+1100
TZNAME:AEDT
DTSTART:20191005T160000
END:DAYLIGHT
BEGIN:STANDARD
TZOFFSETFROM:+1100
TZOFFSETTO:+1000
TZNAME:AEST
DTSTART:20200404T160000
END:STANDARD
BEGIN:DAYLIGHT
TZOFFSETFROM:+1000
TZOFFSETTO:+1100
TZNAME:AEDT
DTSTART:20201003T160000
END:DAYLIGHT
BEGIN:STANDARD
TZOFFSETFROM:+1100
TZOFFSETTO:+1000
TZNAME:AEST
DTSTART:20210403T160000
END:STANDARD
BEGIN:DAYLIGHT
TZOFFSETFROM:+1000
TZOFFSETTO:+1100
TZNAME:AEDT
DTSTART:20211002T160000
END:DAYLIGHT
END:VTIMEZONE
BEGIN:VEVENT
DTSTART;TZID=Australia/Melbourne:20200305T200000
DTEND;TZID=Australia/Melbourne:20200305T213000
DTSTAMP:20260425T033758
CREATED:20200131T095817Z
LAST-MODIFIED:20200210T002004Z
UID:8236-1583438400-1583443800@melbournecameraclub.org.au
SUMMARY:Guest Speaker - Alli Harper - A Blueprint for Architecture Photography
DESCRIPTION:Alli’s Website \n  \nPrevious Club Night: Guest Speaker – Nick Ghionis – Creative Portraits with an AIPP Master (20 Feb 2020)\nNext Club Night: MCC Member – Peter Walton – Creating Compelling Compositions (19 Mar 2020)
URL:https://melbournecameraclub.org.au/event/2020-03-05/
END:VEVENT
END:VCALENDAR